BEGIN:VCALENDAR
VERSION:2.0
PRODID:-//Tukios.com/
BEGIN:VEVENT
UID:6b2d6be6-858c-423e-9907-79830224a1cd@www.meyerfh.com
DTSTAMP:20260421T084659Z
DTSTART:20260502T190000Z
DTEND:20260502T220000Z
SUMMARY:Celebration of Life
DESCRIPTION:
URL:https://www.meyerfh.com/obituaries/claudine-rush
LOCATION:First Christian Church of Effingham 901 N Henrietta St  
	Effingham IL 62401
GEO:39.1288869;-88.5577581
END:VEVENT
END:VCALENDAR